BEGIN:VCALENDAR
VERSION:2.0
PRODID:-//CPFB - ECPv6.15.20//NONSGML v1.0//EN
CALSCALE:GREGORIAN
METHOD:PUBLISH
X-WR-CALNAME:CPFB
X-ORIGINAL-URL:https://www.cpfb.be
X-WR-CALDESC:Évènements pour CPFB
REFRESH-INTERVAL;VALUE=DURATION:PT1H
X-Robots-Tag:noindex
X-PUBLISHED-TTL:PT1H
BEGIN:VTIMEZONE
TZID:Europe/Brussels
BEGIN:DAYLIGHT
TZOFFSETFROM:+0100
TZOFFSETTO:+0200
TZNAME:CEST
DTSTART:20250330T010000
END:DAYLIGHT
BEGIN:STANDARD
TZOFFSETFROM:+0200
TZOFFSETTO:+0100
TZNAME:CET
DTSTART:20251026T010000
END:STANDARD
BEGIN:DAYLIGHT
TZOFFSETFROM:+0100
TZOFFSETTO:+0200
TZNAME:CEST
DTSTART:20260329T010000
END:DAYLIGHT
BEGIN:STANDARD
TZOFFSETFROM:+0200
TZOFFSETTO:+0100
TZNAME:CET
DTSTART:20261025T010000
END:STANDARD
BEGIN:DAYLIGHT
TZOFFSETFROM:+0100
TZOFFSETTO:+0200
TZNAME:CEST
DTSTART:20270328T010000
END:DAYLIGHT
BEGIN:STANDARD
TZOFFSETFROM:+0200
TZOFFSETTO:+0100
TZNAME:CET
DTSTART:20271031T010000
END:STANDARD
END:VTIMEZONE
BEGIN:VEVENT
DTSTART;TZID=Europe/Brussels:20260516T100000
DTEND;TZID=Europe/Brussels:20260516T110000
DTSTAMP:20260421T131627
CREATED:20260409T155731Z
LAST-MODIFIED:20260409T160351Z
UID:2331-1778925600-1778929200@www.cpfb.be
SUMMARY:Séance d’info – Formations de conseiller en prévention
DESCRIPTION:Vous souhaitez en savoir plus sur nos formations de conseiller en prévention ?Inscrivez-vous notre séance d’information en présentiel au CPFB\, à Louvain-la-Neuve. \n\n\n\n16 mai 2026 à 10h : https://fr.surveymonkey.com/r/GJQRXW5
URL:https://www.cpfb.be/evenement/brouillon-auto/
ATTACH;FMTTYPE=image/jpeg:https://www.cpfb.be/wp-content/uploads/2026/04/CP.jpg
END:VEVENT
BEGIN:VEVENT
DTSTART;TZID=Europe/Brussels:20260519T180000
DTEND;TZID=Europe/Brussels:20260519T190000
DTSTAMP:20260421T131627
CREATED:20260418T122516Z
LAST-MODIFIED:20260418T122517Z
UID:2347-1779213600-1779217200@www.cpfb.be
SUMMARY:Séance d'information - Bachelier en éducation spécialisée - mardi 19 mai à 18h au CPFB
DESCRIPTION:Merci de compléter ce formulaire pour vous inscrire : https://forms.office.com/e/KnWEsTYHdY
URL:https://www.cpfb.be/evenement/seance-dinformation-bachelier-en-education-specialisee-mardi-19-mai-a-18h-au-cpfb/
END:VEVENT
BEGIN:VEVENT
DTSTART;TZID=Europe/Brussels:20260611T180000
DTEND;TZID=Europe/Brussels:20260611T190000
DTSTAMP:20260421T131627
CREATED:20260409T155951Z
LAST-MODIFIED:20260409T160315Z
UID:2337-1781200800-1781204400@www.cpfb.be
SUMMARY:Séance d’info – Formations de conseiller en prévention
DESCRIPTION:Vous souhaitez en savoir plus sur nos formations de conseiller en prévention ?Inscrivez-vous notre séance d’information en présentiel au CPFB\, à Louvain-la-Neuve. \n\n\n\n11 juin 2026 à 18h : https://fr.surveymonkey.com/r/GJBP7NP
URL:https://www.cpfb.be/evenement/seance-dinfo-formations-de-conseiller-en-prevention/
ATTACH;FMTTYPE=image/jpeg:https://www.cpfb.be/wp-content/uploads/2026/04/CP.jpg
END:VEVENT
BEGIN:VEVENT
DTSTART;TZID=Europe/Brussels:20260704T090000
DTEND;TZID=Europe/Brussels:20260704T100000
DTSTAMP:20260421T131627
CREATED:20260409T160055Z
LAST-MODIFIED:20260409T160056Z
UID:2339-1783155600-1783159200@www.cpfb.be
SUMMARY:Séance d’info – Formations de conseiller en prévention
DESCRIPTION:Vous souhaitez en savoir plus sur nos formations de conseiller en prévention ?Inscrivez-vous notre séance d’information en présentiel au CPFB\, à Louvain-la-Neuve. \n\n\n\n4 juillet 2026 à 9h : https://fr.surveymonkey.com/r/78M8ZXM
URL:https://www.cpfb.be/evenement/seance-dinfo-formations-de-conseiller-en-prevention-2/
END:VEVENT
END:VCALENDAR